BEGIN:VCALENDAR
VERSION:2.0
PRODID:-//Kalmar konstmuseum - ECPv6.15.18//NONSGML v1.0//EN
CALSCALE:GREGORIAN
METHOD:PUBLISH
X-ORIGINAL-URL:https://www.kalmarkonstmuseum.se
X-WR-CALDESC:Händelser för Kalmar konstmuseum
REFRESH-INTERVAL;VALUE=DURATION:PT1H
X-Robots-Tag:noindex
X-PUBLISHED-TTL:PT1H
BEGIN:VTIMEZONE
TZID:Europe/Stockholm
BEGIN:DAYLIGHT
TZOFFSETFROM:+0100
TZOFFSETTO:+0200
TZNAME:CEST
DTSTART:20250330T010000
END:DAYLIGHT
BEGIN:STANDARD
TZOFFSETFROM:+0200
TZOFFSETTO:+0100
TZNAME:CET
DTSTART:20251026T010000
END:STANDARD
BEGIN:DAYLIGHT
TZOFFSETFROM:+0100
TZOFFSETTO:+0200
TZNAME:CEST
DTSTART:20260329T010000
END:DAYLIGHT
BEGIN:STANDARD
TZOFFSETFROM:+0200
TZOFFSETTO:+0100
TZNAME:CET
DTSTART:20261025T010000
END:STANDARD
BEGIN:DAYLIGHT
TZOFFSETFROM:+0100
TZOFFSETTO:+0200
TZNAME:CEST
DTSTART:20270328T010000
END:DAYLIGHT
BEGIN:STANDARD
TZOFFSETFROM:+0200
TZOFFSETTO:+0100
TZNAME:CET
DTSTART:20271031T010000
END:STANDARD
END:VTIMEZONE
BEGIN:VEVENT
DTSTART;TZID=Europe/Stockholm:20260425T103000
DTEND;TZID=Europe/Stockholm:20260425T113000
DTSTAMP:20260422T123425
CREATED:20260320T111059Z
LAST-MODIFIED:20260320T112834Z
UID:14819-1777113000-1777116600@www.kalmarkonstmuseum.se
SUMMARY:Konstmorgon
DESCRIPTION:Föredrar du att uppleva konst i lugn och ro? Under Konstmorgon ger våra museivärdar en guidad tur av Kalmar konstmuseums aktuella utställningar. \nLördag 25 april blir det brott\, straff och konst i Det sista straffet. Kalmar konstmuseums museivärd berättar mer om samarbetet med internera på anstalten i Kalmar och den konstnärliga processen bakom verket Ett torn högre än jag själv. Dessutom lär vi känna framtidens konstnärer i Jaga svans med Konstskolan II\, Ölands folkhögskola. \nNär: lördag 25 april\, kl. 10:30\nFri entré med anledning av Gallerihelg Kalmar
URL:https://www.kalmarkonstmuseum.se/event/konstmorgon-25apr-26/
LOCATION:Kalmar konstmuseum
CATEGORIES:Konstmorgon
ATTACH;FMTTYPE=image/jpeg:https://www.kalmarkonstmuseum.se/wp-content/uploads/2026/03/det-sista-straffet-115-169.jpg
END:VEVENT
BEGIN:VEVENT
DTSTART;TZID=Europe/Stockholm:20260425T110000
DTEND;TZID=Europe/Stockholm:20260426T150000
DTSTAMP:20260422T123425
CREATED:20260320T114108Z
LAST-MODIFIED:20260320T114108Z
UID:14815-1777114800-1777215600@www.kalmarkonstmuseum.se
SUMMARY:Gallerihelg Kalmar
DESCRIPTION:Från måleri till skulptur\, glas och installation – upplev det mesta Kalmar har att erbjuda i konstväg under Gallerihelg Kalmar 25–26 april! \nGallerihelg Kalmar är en unik möjlighet att uppleva stadens rika och levande konstliv. Totalt visas 15 konstnärer och utställningar samlade inom en radie på bara några kilometer. Helgen inleds med Konstmorgon på Kalmar konstmuseum\, lördag 25 april\, därefter har samtliga medverkande gemensamma öppettider med fri entré. \nGemensamma öppettider\nLördag 25/4 kl. 11–18\nSöndag 26/4 kl. 11–15 \nÅrets medverkande\nGalleri Svalan\, Galleri Västerport\, Galleri Matz Nordell\, Galleri Johan Persson\, Teatergalleriet\, Galleri Monica Strandberg\, Rotundan\, Kalmar konstmuseum. \nHELGENS PROGRAM\n \n 
URL:https://www.kalmarkonstmuseum.se/event/gallerihelg-kalmar-april-26/
LOCATION:Kalmar
CATEGORIES:Gallerihelg
ATTACH;FMTTYPE=image/jpeg:https://www.kalmarkonstmuseum.se/wp-content/uploads/2025/03/gallerihelg-kopia_16-9-scaled.jpg
END:VEVENT
BEGIN:VEVENT
DTSTART;TZID=Europe/Stockholm:20260426T120000
DTEND;TZID=Europe/Stockholm:20260426T150000
DTSTAMP:20260422T123425
CREATED:20251217T132631Z
LAST-MODIFIED:20251217T132631Z
UID:14593-1777204800-1777215600@www.kalmarkonstmuseum.se
SUMMARY:Drop in-labb
DESCRIPTION:På med labbrocken – konstexperiment väntar! \nInspireras av våra pågående utställningar\, testa material och mixtra med tekniker – i Kalmar konstmuseums drop in-labb är experimentsugna konstentusiaster mellan 4–12 år välkomna. \nNär: söndag 26 april\, drop in kl. 12–15\nÅlder: 4–12 år\nPris: 50kr/barn\nKom som du är\, ingen föranmälan krävs.
URL:https://www.kalmarkonstmuseum.se/event/drop-in-labb-5/
LOCATION:Kalmar konstmuseum
CATEGORIES:barn&unga,Drop in-labb
ATTACH;FMTTYPE=image/jpeg:https://www.kalmarkonstmuseum.se/wp-content/uploads/2025/12/workshop-tryck-44-1-scaled.jpg
END:VEVENT
BEGIN:VEVENT
DTSTART;TZID=Europe/Stockholm:20260429T170000
DTEND;TZID=Europe/Stockholm:20260429T170000
DTSTAMP:20260422T123425
CREATED:20260327T095455Z
LAST-MODIFIED:20260420T122159Z
UID:14867-1777482000-1777482000@www.kalmarkonstmuseum.se
SUMMARY:Vernissage: Survival Kit
DESCRIPTION:Vad skulle du förvara i en jordkällare? Potatis\, pumpor\, blomkål… eller kanske minnen och kunskap? \nOnsdag 29 april är det äntligen dags att öppna grupputställningen Survival Kit. Det blir mingel och bubbel och fördjupande samtal om jordkällare\, hopp och motstånd. \nUtställningen invigs av museichef Jonas Holmberg följt av ett konstnärssamtal\, lett av curator Sara Hemmingsson\, med Mathieu Vrijman och Malin Lindmark Vrijman från konstkollektivet Kultivator och Linda Persson. I samtalet medverkar även Johan Höglund\, projektledare för Linnéuniversitetets tvärvetenskapliga forskningsprojekt Hopemaking: Att nära det positiva motståndets kulturer. \nKvällens program\n17:00 Mingel till DJ Max Syron i Kalmar konstmuseums foajé\n17:15 Museichef Jonas Holmberg hälsar välkommen\n18:00 Konstnärssamtal: Kan konsten skapa hopp och motstånd i tider av oro?  \nKonstnärerna Linda Persson\, Mathieu Vrijman och Malin Lindmark Vrijman\, Kultivator och Johan Höglund\, professor i engelsk litteratur vid Linnéuniversitetet\, möts i ett samtal modererat av Sara Hemmingsson\, intendent för utställningar och samlingen. \nNär: onsdag 29 april\, kl. 17:00\nFri entré
URL:https://www.kalmarkonstmuseum.se/event/vernissage-survival-kit/
LOCATION:Kalmar konstmuseum
CATEGORIES:Vernissage
ATTACH;FMTTYPE=image/jpeg:https://www.kalmarkonstmuseum.se/wp-content/uploads/2026/03/kkm2022-3-1-scaled2.jpg
END:VEVENT
BEGIN:VEVENT
DTSTART;TZID=Europe/Stockholm:20260505T130000
DTEND;TZID=Europe/Stockholm:20260505T163000
DTSTAMP:20260422T123425
CREATED:20260413T085837Z
LAST-MODIFIED:20260413T111515Z
UID:14887-1777986000-1777998600@www.kalmarkonstmuseum.se
SUMMARY:EXAMENSVISNING: Dokumentärfilmskolan distans
DESCRIPTION:Personligt och observerande\, utforskande och processbaserat. När Dokumentärfilmskolan distans vid Ölands folkhögskola bjuder in till examensvisning blir det allt från ett personligt möte med en pappa\, polyamorösa förhållanden\, hur hockeykulturen påverkar utslagning\, en musikers tankar om livet som ensamstående pappa\, ett möte med en livstidsdömd utvisad man\, vardagen på en barbershop där stora drömmar skapar hopp och slutligen en berättelse om hur grafitti kan var antingen konst eller klotter beroende på betraktarens blick. \nUnder eftermiddagen modererar Ewa Cederstam\, kursansvarig\, ett samtal med deltagarna där de presenterar utdrag ur sina kommande filmer. I samtalet berättar deltagarna mer om sina reflektioner och processer bakom sina filmer och det finns möjlighet för publik att ställa frågor.  Eftermiddagen inleds med mingel\, dryck och tilltugg kl. 13 följt av en introduktion till samtida dokumentära skildringar tillsammans med museichef Jonas Holmberg kl. 13.30 \nNär: tisdag 5 maj kl. 13.00-16.30\nVar: Kalmar konstmuseums bibliotek\nFri entré \n  \n\nLA DISTANCE ENTRE NOUS/ AVSTÅNDET MELLAN OSS\nJuliette Sténo \nNär Juliette Sténo var nio år flyttade hon tillsammans med sin mamma och syster till Sverige. Hennes pappa blev kvar i Frankrike. När hon hittar VHS-band från sin barndom möter hon en lekfull och närvarande pappa – en närhet hon inte längre känner igen. Juliette Sténo återvänter\, allt oftare\, till den franska rivieran för att närma sig sin pappa och det som länge legat tyst mellan dem. Hur har livet och åren påverkat dem\, och vad händer när det inte längre går att hålla tillbaka? \nFADE YARD\nHosea Waore \nFade Yard är en observerande kortdokumentär som utspelar sig under en dag i en barbershop mitt emot Liseberg Södra i Göteborg. Skämt\, konflikter och vardagliga samtal driver berättelsen framåt. I centrum står Ray 22 år\, en ung entreprenör som försöker hålla ihop både verksamheten och människorna på salongen. Precis som i TV-serier som Cheers\, Seinfeld och The Fresh Prince of Bel-Air utspelar sig dramat på en plats där olika viljor\, drömmar och personligheter krockar i realtid. Mitt i skratt och kaos växer en berättelse fram om ansvar\, tillhörighet och vad det innebär att skapa en plats där andra kan höra hemma. \nHON & DE ANDRA\nJohanna Halldorf och Chatchada Wangkam \nAndrea Frisk är en polyamorös lesbisk kvinna som valt att offentliggöra sin livsstil online. Varför är det så viktigt för henne att sudda ut och omforma kärlekens gränser\, och förespråka en livsstil öppet som kan verka provocerande för många? Kan kärlek ens vara provocerande? I ett tvåsamhetssamhälle där många frågar sig hur man ska räcka till för en person\, hur är det då att vara tillräcklig för flera? \nKLOTTER\nElias Andersson och Kareem Hussein \nTre graffare från Göteborgs graffitiscen står vid olika vägskäl i livet. Den ena är på väg in\, den andra på väg vidare och vet inte om han kan fortsätta skapa grafitti. I filmen får vi en djupare inblick i grafittivärlden. \nNUMMER 1\nLukas Gustav Gunnarsson \nI kylan på isen under strålkastarna står alla spelare med sina nummer på ryggarna redo för match. Vilket nummer i laget är värt mest? Betyder numret på ryggen detsamma när spelarna kliver av isen efter matchen? Vad tar dessa nummer med sig från matchen och vad lämnar de kvar i ishallen? \nFUNGZ\nCasey Gustafsson \nI en liten studio möter vi Joel\, en musiker som försöker hålla fast vid sitt skapande. När han vid 25 års ålder blir pappa förändras allt och en ny verklighet tar form. Mellan studion och livet med sin dotter växer en inre konflikt kring närvaro och drömmar. Det är en berättelse om identitet\, ansvar och viljan att forma sitt liv. \nCHICAGO DISPATCH\nJosef November Åkebrand \nEn film om utanförskap\, ouppfyllda drömmar och frågan om hur deportation som straff påverkar individen följer filmaren Bert från Chicago. En man som har utvisats från USA på livstid. Natt efter natt konfronteras han genom sitt arbete med livet han har förlorat. \nFoto: Pav Johansson
URL:https://www.kalmarkonstmuseum.se/event/examensvisning-dokumentarfilmskolan-distans-2/
LOCATION:Kalmar konstmuseum
CATEGORIES:Filmvisning
ATTACH;FMTTYPE=image/jpeg:https://www.kalmarkonstmuseum.se/wp-content/uploads/2026/04/klass-2025-26-scaled.jpeg
END:VEVENT
BEGIN:VEVENT
DTSTART;TZID=Europe/Stockholm:20260505T180000
DTEND;TZID=Europe/Stockholm:20260505T193000
DTSTAMP:20260422T123425
CREATED:20260422T075150Z
LAST-MODIFIED:20260422T075431Z
UID:14916-1778004000-1778009400@www.kalmarkonstmuseum.se
SUMMARY:Workshop: Frihet\, dans och tusch
DESCRIPTION:Fånga friheten med tusch – tisdag 5 maj blir det dansant kroki på Kalmar konstmuseum. \nI maj 1926 avtjänade Isak Grünewald ett månadslångt fängelsestraff på Långholmen. Under sin tid på Långholmens fängelse skapade han bilder ur sitt dagliga fängelseliv i tusch och akvarell. Med inspiration från Isac Grünewalds teckningar och verket Ett torn högre än jag själv testar vi tuschteckning tillsammans med illustratören och konstpedagogen Pernilla Frid. \nMed oss under kvällen har vi också dansaren Lisiane Heemann som fångar Isaks bilder i dans och rörelse. Perfekt för att utmana oss i att fånga liv och känslor\, frihet och frihetsberövan. Vi tecknar i olika tempon\, stort och litet på såväl bord som golv. Inga förkunskaper behövs! \nNär: tisdag 5 maj 18.00–19.30\nKostnad: 150 kr\nFöranmälan till: konstlabbet@kalmarkonstmuseum.se \n  \nFoto: Fången n:o 693 får visit av fångvaktaren\, Isaac Grünewald\, 1926
URL:https://www.kalmarkonstmuseum.se/event/workshop-frihet-dans-och-tusch/
CATEGORIES:Workshop
ATTACH;FMTTYPE=image/jpeg:https://www.kalmarkonstmuseum.se/wp-content/uploads/2026/04/grunewald-102-2-scaled.jpg
END:VEVENT
BEGIN:VEVENT
DTSTART;TZID=Europe/Stockholm:20260516T130000
DTEND;TZID=Europe/Stockholm:20260516T150000
DTSTAMP:20260422T123425
CREATED:20260119T140708Z
LAST-MODIFIED:20260119T141305Z
UID:14674-1778936400-1778943600@www.kalmarkonstmuseum.se
SUMMARY:Familjeklubb
DESCRIPTION:Redo för en konstkick? Ta med hela familjen på en kreativ utmaning! \nI Kalmar konstmuseums Familjeklubb kan barn från 7 år i sällskap med vuxen ta sig an kreativa konstutmaningar tillsammans. Varje Familjeklubb utgår från ett specifikt tema och en särskild utmaning . Till våra Familjeklubbar säkrar du din plats genom att föranmäla dig och ditt barn. \nTid: lördag 16 maj\, kl. 13–15\nPris: 50 kr/barn\nÅlder: barn från 7 år + vuxen\nFöranmälan: konstlabbet@kalmarkonstmuseum.se \n\nReady for art? Bring the whole family on a creative challenge! \nIn Kalmar konstmuseum’s Familjeklubb\, children from 7 years old\, accompanied by an adult\, can take on creative art challenges together. Each Family Club is based on a specific theme and a special challenge – an art kick for the whole family. You can secure your place at our Family Clubs by pre-registering for yourself and your child. \nTime: Saturday\, May 16\, at 13–15\nPrice: 50 SEK/child\nAge: children from 7 years old + adult\nPre-registration: konstlabbet@kalmarkonstmuseum.se
URL:https://www.kalmarkonstmuseum.se/event/familjeklubb-16-maj/
LOCATION:Kalmar konstmuseum
CATEGORIES:barn&unga,Familjeklubb
ATTACH;FMTTYPE=image/jpeg:https://www.kalmarkonstmuseum.se/wp-content/uploads/2026/01/basta-festivalen-moa-lonn-kalmar-konstmuseum-2025-06-scaled.jpg
END:VEVENT
BEGIN:VEVENT
DTSTART;TZID=Europe/Stockholm:20260520T180000
DTEND;TZID=Europe/Stockholm:20260520T193000
DTSTAMP:20260422T123425
CREATED:20260413T112943Z
LAST-MODIFIED:20260417T094122Z
UID:14897-1779300000-1779305400@www.kalmarkonstmuseum.se
SUMMARY:Konsert: Röster från insidan
DESCRIPTION:Längre straff\, mindre behandling\, dubbelinläggningar\, sysselsättningsbrist… Hur är det att sitta i fängelse idag? I Kalmar konstmuseums utställning Det sista straffet\, som undersöker brott\, straff och erfarenheter av att vara frihetsberövad\, framförs Röster på insidan – ett helkvällsprogram med musik och poesi om frihetsberövades erfarenheter. \nJournalisten och författaren Annica Carlsson Bergdahls djupintervjuer med intagna kvinnor och män på svenska fängelser har bearbetats till sångtexter av poeten och dramatikern Lina Ekdahl\, och tonsatts av musikern Matilda Sjöström (Steget\, Det brinner). Musiken framförs av ett band där professionella musiker spelar tillsammans med tidigare interner som deltagit i projektet. \nI intervjuerna rör sig svaren kring livsval\, skuld och konsekvenser: Hur har ditt liv sett ut? Hade något kunnat bryta din kriminella bana? Här framträder berättelser präglade av skuld och skam\, men också av vänskap och förtrogenhet. \nNär: onsdag 20 maj\, kl 18:00\nVar: Stadsparkscenen\, utanför Kalmar konstmuseum\nFri entré \nMedverkande\n \nMatilda Sjöström\, Lina Ekdahl\, Carin Åkesson\, Annica Carlsson Bergdahl\, Jonas Ljungqvist\, Joakim Fitzner\, Ossian Ward\, Fabian Kallerdahl\, Magnus Hansson\, Emil Karlsson\, Kevin Granqvist. \n  \n\nRöster från insidan arrangeras inom ramen för Kalmar konstmuseums medskapande konstprojekt Från anstalten till museet. Projektet genomförs av Kalmar konstmuseum i samarbete med Kriminalvården i Kalmar och har möjliggjorts genom stöd av Svenska Postkodlotteriets Stiftelse.
URL:https://www.kalmarkonstmuseum.se/event/konsert-roster-fran-insidan/
LOCATION:Stadsparken\, Stadsparken\, Kalmar\, Kalmar län\, 39233\, Sverige
CATEGORIES:Konsert
ATTACH;FMTTYPE=image/jpeg:https://www.kalmarkonstmuseum.se/wp-content/uploads/2026/04/matilda-lina-carin-annica_-scaled.jpg
END:VEVENT
BEGIN:VEVENT
DTSTART;TZID=Europe/Stockholm:20260531T120000
DTEND;TZID=Europe/Stockholm:20260531T150000
DTSTAMP:20260422T123425
CREATED:20251217T132854Z
LAST-MODIFIED:20251217T132854Z
UID:14595-1780228800-1780239600@www.kalmarkonstmuseum.se
SUMMARY:Drop in-labb
DESCRIPTION:På med labbrocken – konstexperiment väntar! \nInspireras av våra pågående utställningar\, testa material och mixtra med tekniker – i Kalmar konstmuseums drop in-labb är experimentsugna konstentusiaster mellan 4–12 år välkomna. \nNär: söndag 31 maj\, drop in kl. 12–15\nÅlder: 4–12 år\nPris: 50kr/barn\nKom som du är\, ingen föranmälan krävs.
URL:https://www.kalmarkonstmuseum.se/event/drop-in-labb-6/
LOCATION:Kalmar konstmuseum
CATEGORIES:barn&unga,Drop in-labb
ATTACH;FMTTYPE=image/jpeg:https://www.kalmarkonstmuseum.se/wp-content/uploads/2025/12/workshop-tryck-44-1-scaled.jpg
END:VEVENT
BEGIN:VEVENT
DTSTART;TZID=Europe/Stockholm:20260614T130000
DTEND;TZID=Europe/Stockholm:20260614T150000
DTSTAMP:20260422T123425
CREATED:20260119T141219Z
LAST-MODIFIED:20260119T141219Z
UID:14677-1781442000-1781449200@www.kalmarkonstmuseum.se
SUMMARY:Familjeklubb
DESCRIPTION:Redo för en konstkick? Ta med hela familjen på en kreativ utmaning! \nI Kalmar konstmuseums Familjeklubb kan barn från 7 år i sällskap med vuxen ta sig an kreativa konstutmaningar tillsammans. Varje Familjeklubb utgår från ett specifikt tema och en särskild utmaning . Till våra Familjeklubbar säkrar du din plats genom att föranmäla dig och ditt barn. \nTid: söndag 14 juni\, kl. 13–15\nPris: 50 kr/barn\nÅlder: barn från 7 år + vuxen\nFöranmälan: konstlabbet@kalmarkonstmuseum.se \n\nReady for art? Bring the whole family on a creative challenge! \nIn Kalmar konstmuseum’s Familjeklubb\, children from 7 years old\, accompanied by an adult\, can take on creative art challenges together. Each Family Club is based on a specific theme and a special challenge – an art kick for the whole family. You can secure your place at our Family Clubs by pre-registering for yourself and your child. \nTime: Sunday\, June 14\, at 13–15\nPrice: 50 SEK/child\nAge: children from 7 years old + adult\nPre-registration: konstlabbet@kalmarkonstmuseum.se
URL:https://www.kalmarkonstmuseum.se/event/familjeklubb-14-jun/
LOCATION:Kalmar konstmuseum
CATEGORIES:barn&unga,Familjeklubb
ATTACH;FMTTYPE=image/jpeg:https://www.kalmarkonstmuseum.se/wp-content/uploads/2026/01/basta-festivalen-moa-lonn-kalmar-konstmuseum-2025-06-scaled.jpg
END:VEVENT
END:VCALENDAR